BEGIN:VCALENDAR
PRODID:-//eluceo/ical//2.0/EN
VERSION:2.0
CALSCALE:GREGORIAN
BEGIN:VEVENT
UID:a6404e0c9d5d32db8b32df821c868413
DTSTAMP:20260423T082557Z
SUMMARY:Congregation Beth Israel Sisterhood Event
DESCRIPTION:Jewish Federation of Central Massachusetts\nCalendar\nhttps://j
 ewishcentralmass.org/calendar/cal67\n\nCongregation Beth Israel Sisterhood
  Event
DTSTART;TZID=America/New_York:20141214T160000
DTEND;TZID=America/New_York:20141214T180000
END:VEVENT
END:VCALENDAR
