BEGIN:VCALENDAR
PRODID:-//eluceo/ical//2.0/EN
VERSION:2.0
CALSCALE:GREGORIAN
BEGIN:VEVENT
UID:e84908a6289393d820fad0995d71b0b9
DTSTAMP:20260420T192346Z
SUMMARY:Jewish Community Center Klezmer Nutcracker
DESCRIPTION:Jewish Federation of Central Massachusetts\nCalendar\nhttps://j
 ewishcentralmass.org/calendar/cal66\n\nJewish Community Center Klezmer Nut
 cracker - Hanukkah Concert by Shirim
DTSTART;TZID=America/New_York:20141214T140000
DTEND;TZID=America/New_York:20141214T170000
END:VEVENT
END:VCALENDAR
