BEGIN:VCALENDAR
PRODID:-//eluceo/ical//2.0/EN
VERSION:2.0
CALSCALE:GREGORIAN
BEGIN:VEVENT
UID:a93712a96c8ec7034fb2582363c8574d
DTSTAMP:20260422T080003Z
SUMMARY:Congregation Beth Israel Brotherhood Breakfast
DESCRIPTION:Jewish Federation of Central Massachusetts\nCalendar\nhttps://j
 ewishcentralmass.org/calendar/cal65\n\nCongregation Beth Israel Brotherhoo
 d Breakfast
DTSTART;TZID=America/New_York:20141214T093000
DTEND;TZID=America/New_York:20141214T110000
END:VEVENT
END:VCALENDAR
