BEGIN:VCALENDAR
PRODID:-//eluceo/ical//2.0/EN
VERSION:2.0
CALSCALE:GREGORIAN
BEGIN:VEVENT
UID:47706cc1e211481d7bdba41892cb4b00
DTSTAMP:20260425T014827Z
SUMMARY:Jewish Community Center Board Meeting
DESCRIPTION:Jewish Federation of Central Massachusetts\nCalendar\nhttps://j
 ewishcentralmass.org/calendar/cal63\n\nJewish Community Center Board Meeti
 ng
DTSTART;TZID=America/New_York:20141211T193000
DTEND;TZID=America/New_York:20141211T210000
END:VEVENT
END:VCALENDAR
