BEGIN:VCALENDAR
PRODID:-//eluceo/ical//2.0/EN
VERSION:2.0
CALSCALE:GREGORIAN
BEGIN:VEVENT
UID:7e8e32a120d60e430d422d82b426771c
DTSTAMP:20260423T095025Z
SUMMARY:Temple Emanuel Sinai Brotherhood Breakfast
DESCRIPTION:Jewish Federation of Central Massachusetts\nCalendar\nhttps://j
 ewishcentralmass.org/calendar/cal61\n\nTemple Emanuel Sinai Brotherhood Br
 eakfast
DTSTART;TZID=America/New_York:20141207T093000
DTEND;TZID=America/New_York:20141207T110000
END:VEVENT
END:VCALENDAR
