BEGIN:VCALENDAR
PRODID:-//eluceo/ical//2.0/EN
VERSION:2.0
CALSCALE:GREGORIAN
BEGIN:VEVENT
UID:1db99855cb2a862fb2d367fa5d34ee71
DTSTAMP:20260424T142642Z
SUMMARY:Congregation Beth Israel Sisterhood Fair
DESCRIPTION:Jewish Federation of Central Massachusetts\nCalendar\nhttps://j
 ewishcentralmass.org/calendar/cal60\n\nCongregation Beth Israel Sisterhood
  Fair
DTSTART;TZID=America/New_York:20141207T090000
DTEND;TZID=America/New_York:20141207T130000
END:VEVENT
END:VCALENDAR
