BEGIN:VCALENDAR
PRODID:-//eluceo/ical//2.0/EN
VERSION:2.0
CALSCALE:GREGORIAN
BEGIN:VEVENT
UID:23028bde06fa866b9d9582b25ec7e667
DTSTAMP:20260422T110018Z
SUMMARY:Pardes 1st Day of School
DESCRIPTION:Jewish Federation of Central Massachusetts\nCalendar\nhttps://j
 ewishcentralmass.org/calendar/cal6\n\nPardes 1st Day of School
DTSTART;TZID=America/New_York:20140910T160000
DTEND;TZID=America/New_York:20140910T180000
END:VEVENT
END:VCALENDAR
