BEGIN:VCALENDAR
PRODID:-//eluceo/ical//2.0/EN
VERSION:2.0
CALSCALE:GREGORIAN
BEGIN:VEVENT
UID:3092a7ff03713db464eb1e3b29d3f496
DTSTAMP:20260422T020316Z
SUMMARY:Congregation B'nai Shalom Board Meeting
DESCRIPTION:Jewish Federation of Central Massachusetts\nCalendar\nhttps://j
 ewishcentralmass.org/calendar/cal58\n\nCongregation B'nai Shalom Board Mee
 ting
DTSTART;TZID=America/New_York:20141203T193000
DTEND;TZID=America/New_York:20141203T210000
END:VEVENT
END:VCALENDAR
