BEGIN:VCALENDAR
PRODID:-//eluceo/ical//2.0/EN
VERSION:2.0
CALSCALE:GREGORIAN
BEGIN:VEVENT
UID:22a39e361261e7beebefefbbb57e4d3b
DTSTAMP:20260422T092621Z
SUMMARY:Congregation Beth Israel Brotherhood Breakfast
DESCRIPTION:Jewish Federation of Central Massachusetts\nCalendar\nhttps://j
 ewishcentralmass.org/calendar/cal55\n\nCongregation Beth Israel Brotherhoo
 d Breakfast
DTSTART;TZID=America/New_York:20141130T093000
DTEND;TZID=America/New_York:20141130T110000
END:VEVENT
END:VCALENDAR
