BEGIN:VCALENDAR
PRODID:-//eluceo/ical//2.0/EN
VERSION:2.0
CALSCALE:GREGORIAN
BEGIN:VEVENT
UID:4d3b4b25b58aabcc5697b90a2c02fb50
DTSTAMP:20260423T210607Z
SUMMARY:Jewish War Veterans Breakfast
DESCRIPTION:Jewish Federation of Central Massachusetts\nCalendar\nhttps://j
 ewishcentralmass.org/calendar/cal53\n\nJewish War Veterans Breakfast
DTSTART;TZID=America/New_York:20141123T090000
DTEND;TZID=America/New_York:20141123T110000
END:VEVENT
END:VCALENDAR
