BEGIN:VCALENDAR
PRODID:-//eluceo/ical//2.0/EN
VERSION:2.0
CALSCALE:GREGORIAN
BEGIN:VEVENT
UID:ec4e53031dab8e025206d79078b7767f
DTSTAMP:20260423T030712Z
SUMMARY:Congregation Beth Israel Board Meeting
DESCRIPTION:Jewish Federation of Central Massachusetts\nCalendar\nhttps://j
 ewishcentralmass.org/calendar/cal50\n\nCongregation Beth Israel Board Meet
 ing
DTSTART;TZID=America/New_York:20141120T193000
DTEND;TZID=America/New_York:20141120T210000
END:VEVENT
END:VCALENDAR
