BEGIN:VCALENDAR
PRODID:-//eluceo/ical//2.0/EN
VERSION:2.0
CALSCALE:GREGORIAN
BEGIN:VEVENT
UID:3631b6f4daebe071ef965391579966be
DTSTAMP:20260424T183504Z
SUMMARY:Jewish Community Center Teen Event
DESCRIPTION:Jewish Federation of Central Massachusetts\nCalendar\nhttps://j
 ewishcentralmass.org/calendar/cal49\n\nJewish Community Center Teen Event
DTSTART;TZID=America/New_York:20141116T130000
DTEND;TZID=America/New_York:20141116T150000
END:VEVENT
END:VCALENDAR
