BEGIN:VCALENDAR
PRODID:-//eluceo/ical//2.0/EN
VERSION:2.0
CALSCALE:GREGORIAN
BEGIN:VEVENT
UID:0c87511cf145da27a4fca9de5ed39fe3
DTSTAMP:20260422T005356Z
SUMMARY:Jewish Healthcare Center Golf Tournament
DESCRIPTION:Jewish Federation of Central Massachusetts\nCalendar\nhttps://j
 ewishcentralmass.org/calendar/cal488\n\nJewish Healthcare Center Golf Tour
 nament
DTSTART;TZID=America/New_York:20160801T090000
DTEND;TZID=America/New_York:20160801T190000
END:VEVENT
END:VCALENDAR
