BEGIN:VCALENDAR
PRODID:-//eluceo/ical//2.0/EN
VERSION:2.0
CALSCALE:GREGORIAN
BEGIN:VEVENT
UID:87a0acbedcf412a900b8d7bd796fa12e
DTSTAMP:20260422T031314Z
SUMMARY:Congregation B'nai Shalom Board Meeting
DESCRIPTION:Jewish Federation of Central Massachusetts\nCalendar\nhttps://j
 ewishcentralmass.org/calendar/cal486\n\nCongregation B'nai Shalom Board Me
 eting
DTSTART;TZID=America/New_York:20160622T193000
DTEND;TZID=America/New_York:20160622T210000
END:VEVENT
END:VCALENDAR
