BEGIN:VCALENDAR
PRODID:-//eluceo/ical//2.0/EN
VERSION:2.0
CALSCALE:GREGORIAN
BEGIN:VEVENT
UID:9f4a179f167a9c7f9b87586f90a1ee75
DTSTAMP:20260423T122854Z
SUMMARY:Jewish Healthcare Center Annual Meeting
DESCRIPTION:Jewish Federation of Central Massachusetts\nCalendar\nhttps://j
 ewishcentralmass.org/calendar/cal485\n\nJewish Healthcare Center Annual Me
 eting
DTSTART;TZID=America/New_York:20160622T180000
DTEND;TZID=America/New_York:20160622T200000
END:VEVENT
END:VCALENDAR
