BEGIN:VCALENDAR
PRODID:-//eluceo/ical//2.0/EN
VERSION:2.0
CALSCALE:GREGORIAN
BEGIN:VEVENT
UID:3451c83b1429a97caefdea8ea77bfae3
DTSTAMP:20260422T080012Z
SUMMARY:Jewish Healthcare Center Centennial Celebration
DESCRIPTION:Jewish Federation of Central Massachusetts\nCalendar\nhttps://j
 ewishcentralmass.org/calendar/cal484\n\nJewish Healthcare Center Centennia
 l Celebration
DTSTART;TZID=America/New_York:20160626T160000
DTEND;TZID=America/New_York:20160626T180000
END:VEVENT
END:VCALENDAR
