BEGIN:VCALENDAR
PRODID:-//eluceo/ical//2.0/EN
VERSION:2.0
CALSCALE:GREGORIAN
BEGIN:VEVENT
UID:8d97464739324a81a1c9bc4ccc3cc38d
DTSTAMP:20260422T045257Z
SUMMARY:Shavuot
DESCRIPTION:Jewish Federation of Central Massachusetts\nCalendar\nhttps://j
 ewishcentralmass.org/calendar/cal481\n\nJFCM
DTSTART;TZID=America/New_York:20160612T000100
DTEND;TZID=America/New_York:20160613T235900
END:VEVENT
END:VCALENDAR
