BEGIN:VCALENDAR
PRODID:-//eluceo/ical//2.0/EN
VERSION:2.0
CALSCALE:GREGORIAN
BEGIN:VEVENT
UID:325fa474f4499f8d0c234d2c277c4061
DTSTAMP:20260422T220634Z
SUMMARY:Temple Emanuel Sinai Confirmation
DESCRIPTION:Jewish Federation of Central Massachusetts\nCalendar\nhttps://j
 ewishcentralmass.org/calendar/cal480\n\nTemple Emanuel Sinai Confirmation
DTSTART;TZID=America/New_York:20160610T190000
DTEND;TZID=America/New_York:20160610T210000
END:VEVENT
END:VCALENDAR
