BEGIN:VCALENDAR
PRODID:-//eluceo/ical//2.0/EN
VERSION:2.0
CALSCALE:GREGORIAN
BEGIN:VEVENT
UID:cfca7788c1e97504dfae51ca0a5f4cba
DTSTAMP:20260425T014747Z
SUMMARY:Congregation Beth Israel Brotherhood Breakfast
DESCRIPTION:Jewish Federation of Central Massachusetts\nCalendar\nhttps://j
 ewishcentralmass.org/calendar/cal48\n\nCongregation Beth Israel Brotherhoo
 d Breakfast
DTSTART;TZID=America/New_York:20141116T093000
DTEND;TZID=America/New_York:20141116T110000
END:VEVENT
END:VCALENDAR
