BEGIN:VCALENDAR
PRODID:-//eluceo/ical//2.0/EN
VERSION:2.0
CALSCALE:GREGORIAN
BEGIN:VEVENT
UID:8af1b34c18a91d0d5058e22125bba3a0
DTSTAMP:20260423T043203Z
SUMMARY:Jewish Federation of Central Mass Board Meeting
DESCRIPTION:Jewish Federation of Central Massachusetts\nCalendar\nhttps://j
 ewishcentralmass.org/calendar/cal477\n\nJewish Federation of Central Mass 
 Board Meeting
DTSTART;TZID=America/New_York:20160607T193000
DTEND;TZID=America/New_York:20160607T210000
END:VEVENT
END:VCALENDAR
