BEGIN:VCALENDAR
PRODID:-//eluceo/ical//2.0/EN
VERSION:2.0
CALSCALE:GREGORIAN
BEGIN:VEVENT
UID:8a52d6cae7279290c72d92a57ad5df32
DTSTAMP:20260421T200118Z
SUMMARY:AIPAC New England Leadership Dinner
DESCRIPTION:Jewish Federation of Central Massachusetts\nCalendar\nhttps://j
 ewishcentralmass.org/calendar/cal475\n\nAIPAC New England Leadership Dinne
 r\n\nSeaport World Trade Center\n\n200 Seaport Boulevard\n\nBoston\, MA 02
 210
DTSTART;TZID=America/New_York:20160605T170000
DTEND;TZID=America/New_York:20160605T210000
END:VEVENT
END:VCALENDAR
