BEGIN:VCALENDAR
PRODID:-//eluceo/ical//2.0/EN
VERSION:2.0
CALSCALE:GREGORIAN
BEGIN:VEVENT
UID:3f06dae16f52e3ca60d8865f196743ae
DTSTAMP:20260423T015658Z
SUMMARY:Lag Ba'Omer
DESCRIPTION:Jewish Federation of Central Massachusetts\nCalendar\nhttps://j
 ewishcentralmass.org/calendar/cal471\n\nJFCM
DTSTART;TZID=America/New_York:20160526T000100
DTEND;TZID=America/New_York:20160526T235900
END:VEVENT
END:VCALENDAR
