BEGIN:VCALENDAR
PRODID:-//eluceo/ical//2.0/EN
VERSION:2.0
CALSCALE:GREGORIAN
BEGIN:VEVENT
UID:1a9d8ddce41e85d32e7d1987833e60e5
DTSTAMP:20260423T112041Z
SUMMARY:Congregation B'nai Shalom Board Meeting
DESCRIPTION:Jewish Federation of Central Massachusetts\nCalendar\nhttps://j
 ewishcentralmass.org/calendar/cal470\n\nCongregation B'nai Shalom Board Me
 eting
DTSTART;TZID=America/New_York:20160525T193000
DTEND;TZID=America/New_York:20160525T210000
END:VEVENT
END:VCALENDAR
