BEGIN:VCALENDAR
PRODID:-//eluceo/ical//2.0/EN
VERSION:2.0
CALSCALE:GREGORIAN
BEGIN:VEVENT
UID:aadc3b8437e9d775550dbf5a8bf9b88c
DTSTAMP:20260424T020701Z
SUMMARY:Congregation B'nai Shalom Blood Drive
DESCRIPTION:Jewish Federation of Central Massachusetts\nCalendar\nhttps://j
 ewishcentralmass.org/calendar/cal47\n\nCongregation B'nai Shalom Blood Dri
 ve
DTSTART;TZID=America/New_York:20141116T080000
DTEND;TZID=America/New_York:20141116T133000
END:VEVENT
END:VCALENDAR
