BEGIN:VCALENDAR
PRODID:-//eluceo/ical//2.0/EN
VERSION:2.0
CALSCALE:GREGORIAN
BEGIN:VEVENT
UID:8998e3119c5421f9b67519917a643c1f
DTSTAMP:20260422T112645Z
SUMMARY:Community Wide Yom Ha'atzmaut Program featuring Josh & the Jamtones
DESCRIPTION:Jewish Federation of Central Massachusetts\nCalendar\nhttps://j
 ewishcentralmass.org/calendar/cal467\n\nCommunity Wide Yom Ha'atzmaut Prog
 ram featuring Josh & Jamtones
DTSTART;TZID=America/New_York:20160522T140000
DTEND;TZID=America/New_York:20160522T160000
END:VEVENT
END:VCALENDAR
