BEGIN:VCALENDAR
PRODID:-//eluceo/ical//2.0/EN
VERSION:2.0
CALSCALE:GREGORIAN
BEGIN:VEVENT
UID:4fa8d445a3e645010e7b1bf91c06dfb8
DTSTAMP:20260422T195348Z
SUMMARY:Jewish War Veterans Flag Day
DESCRIPTION:Jewish Federation of Central Massachusetts\nCalendar\nhttps://j
 ewishcentralmass.org/calendar/cal465\n\nJewish War Veterans Flag Day
DTSTART;TZID=America/New_York:20160522T090000
DTEND;TZID=America/New_York:20160522T120000
END:VEVENT
END:VCALENDAR
