BEGIN:VCALENDAR
PRODID:-//eluceo/ical//2.0/EN
VERSION:2.0
CALSCALE:GREGORIAN
BEGIN:VEVENT
UID:a80056d037466e68bd77271d03891651
DTSTAMP:20260423T082826Z
SUMMARY:Congregation B'nai Shalom Last Day of Hebrew School
DESCRIPTION:Jewish Federation of Central Massachusetts\nCalendar\nhttps://j
 ewishcentralmass.org/calendar/cal464\n\nCongregation B'nai Shalom Last Day
  of Hebrew School
DTSTART;TZID=America/New_York:20160522T090000
DTEND;TZID=America/New_York:20160522T120000
END:VEVENT
END:VCALENDAR
