BEGIN:VCALENDAR
PRODID:-//eluceo/ical//2.0/EN
VERSION:2.0
CALSCALE:GREGORIAN
BEGIN:VEVENT
UID:f3cc29c4d1eee66b3575a204e1a19986
DTSTAMP:20260421T195847Z
SUMMARY:Jewish Community Center Board Meeting
DESCRIPTION:Jewish Federation of Central Massachusetts\nCalendar\nhttps://j
 ewishcentralmass.org/calendar/cal463\n\nJewish Community Center Board Meet
 ing
DTSTART;TZID=America/New_York:20160519T193000
DTEND;TZID=America/New_York:20160519T210000
END:VEVENT
END:VCALENDAR
