BEGIN:VCALENDAR
PRODID:-//eluceo/ical//2.0/EN
VERSION:2.0
CALSCALE:GREGORIAN
BEGIN:VEVENT
UID:b378b71b3497b191ad1b3dd9d7047e97
DTSTAMP:20260422T035334Z
SUMMARY:Worcester Community Hebrew High School Graduation
DESCRIPTION:Jewish Federation of Central Massachusetts\nCalendar\nhttps://j
 ewishcentralmass.org/calendar/cal462\n\nWorcester Community Hebrew High Sc
 hool Graduation
DTSTART;TZID=America/New_York:20160518T190000
DTEND;TZID=America/New_York:20160518T210000
END:VEVENT
END:VCALENDAR
