BEGIN:VCALENDAR
PRODID:-//eluceo/ical//2.0/EN
VERSION:2.0
CALSCALE:GREGORIAN
BEGIN:VEVENT
UID:b954a44a4dc7d30f361181f222c239d0
DTSTAMP:20260424T004224Z
SUMMARY:Pardes Last Day of School
DESCRIPTION:Jewish Federation of Central Massachusetts\nCalendar\nhttps://j
 ewishcentralmass.org/calendar/cal461\n\nPardes Last Day of School
DTSTART;TZID=America/New_York:20160518T160000
DTEND;TZID=America/New_York:20160518T190000
END:VEVENT
END:VCALENDAR
