BEGIN:VCALENDAR
PRODID:-//eluceo/ical//2.0/EN
VERSION:2.0
CALSCALE:GREGORIAN
BEGIN:VEVENT
UID:8838d2ef4570d7ecb96965a24d6a6768
DTSTAMP:20260424T060928Z
SUMMARY:Beth Tikvah Bingo Event
DESCRIPTION:Jewish Federation of Central Massachusetts\nCalendar\nhttps://j
 ewishcentralmass.org/calendar/cal46\n\nBeth Tikvah Bingo Event
DTSTART;TZID=America/New_York:20141115T180000
DTEND;TZID=America/New_York:20141115T210000
END:VEVENT
END:VCALENDAR
