BEGIN:VCALENDAR
PRODID:-//eluceo/ical//2.0/EN
VERSION:2.0
CALSCALE:GREGORIAN
BEGIN:VEVENT
UID:cafd00f4b126081364b688ba86800733
DTSTAMP:20260422T112634Z
SUMMARY:Yom Ha'atzmaut
DESCRIPTION:Jewish Federation of Central Massachusetts\nCalendar\nhttps://j
 ewishcentralmass.org/calendar/cal455\n\nJFCM
DTSTART;TZID=America/New_York:20160512T000100
DTEND;TZID=America/New_York:20160512T235900
END:VEVENT
END:VCALENDAR
