BEGIN:VCALENDAR
PRODID:-//eluceo/ical//2.0/EN
VERSION:2.0
CALSCALE:GREGORIAN
BEGIN:VEVENT
UID:269680ec738de59ee213603219fbfb12
DTSTAMP:20260424T070739Z
SUMMARY:Yom Hazikaron
DESCRIPTION:Jewish Federation of Central Massachusetts\nCalendar\nhttps://j
 ewishcentralmass.org/calendar/cal454\n\nJFCM
DTSTART;TZID=America/New_York:20160511T000100
DTEND;TZID=America/New_York:20160511T235900
END:VEVENT
END:VCALENDAR
