BEGIN:VCALENDAR
PRODID:-//eluceo/ical//2.0/EN
VERSION:2.0
CALSCALE:GREGORIAN
BEGIN:VEVENT
UID:1e862715fbd59186087895f1a3c9c198
DTSTAMP:20260422T134200Z
SUMMARY:Temple Emanuel Sinai Board Meeting
DESCRIPTION:Jewish Federation of Central Massachusetts\nCalendar\nhttps://j
 ewishcentralmass.org/calendar/cal453\n\nTemple Emanuel Sinai Board Meeting
DTSTART;TZID=America/New_York:20160509T193000
DTEND;TZID=America/New_York:20160509T210000
END:VEVENT
END:VCALENDAR
