BEGIN:VCALENDAR
PRODID:-//eluceo/ical//2.0/EN
VERSION:2.0
CALSCALE:GREGORIAN
BEGIN:VEVENT
UID:cd3095eef602afcf80075346b50f39cd
DTSTAMP:20260424T122835Z
SUMMARY:Yom Hashoah
DESCRIPTION:Jewish Federation of Central Massachusetts\nCalendar\nhttps://j
 ewishcentralmass.org/calendar/cal451\n\nJFCM
DTSTART;TZID=America/New_York:20160505T000100
DTEND;TZID=America/New_York:20160505T235900
END:VEVENT
END:VCALENDAR
