BEGIN:VCALENDAR
PRODID:-//eluceo/ical//2.0/EN
VERSION:2.0
CALSCALE:GREGORIAN
BEGIN:VEVENT
UID:196d58ffcac865a840958388e9ff773b
DTSTAMP:20260422T195338Z
SUMMARY:Community Wide Yom Hashoah Commemoration
DESCRIPTION:Jewish Federation of Central Massachusetts\nCalendar\nhttps://j
 ewishcentralmass.org/calendar/cal450\n\nCommunity Wide Yom Hashoah Commemo
 ration
DTSTART;TZID=America/New_York:20160503T190000
DTEND;TZID=America/New_York:20160503T203000
END:VEVENT
END:VCALENDAR
