BEGIN:VCALENDAR
PRODID:-//eluceo/ical//2.0/EN
VERSION:2.0
CALSCALE:GREGORIAN
BEGIN:VEVENT
UID:a1faa930e0f76d278cdf354eea9dcbfe
DTSTAMP:20260423T231702Z
SUMMARY:Jewish Community Center Volunteer Luncheon
DESCRIPTION:Jewish Federation of Central Massachusetts\nCalendar\nhttps://j
 ewishcentralmass.org/calendar/cal449\n\nJewish Community Center Volunteer 
 Luncheon
DTSTART;TZID=America/New_York:20160504T120000
DTEND;TZID=America/New_York:20160504T140000
END:VEVENT
END:VCALENDAR
