BEGIN:VCALENDAR
PRODID:-//eluceo/ical//2.0/EN
VERSION:2.0
CALSCALE:GREGORIAN
BEGIN:VEVENT
UID:7a71a4f5abc684f541f40ecc0601f19d
DTSTAMP:20260422T060628Z
SUMMARY:Jewish Federation of Central Mass Board Meeting
DESCRIPTION:Jewish Federation of Central Massachusetts\nCalendar\nhttps://j
 ewishcentralmass.org/calendar/cal448\n\nJewish Federation of Central Mass 
 Board Meeting
DTSTART;TZID=America/New_York:20160504T193000
DTEND;TZID=America/New_York:20160504T210000
END:VEVENT
END:VCALENDAR
