BEGIN:VCALENDAR
PRODID:-//eluceo/ical//2.0/EN
VERSION:2.0
CALSCALE:GREGORIAN
BEGIN:VEVENT
UID:5e0c6e933ef360f03b0d7be487adfa3b
DTSTAMP:20260423T002616Z
SUMMARY:Community Wide Mimouna 2016
DESCRIPTION:Jewish Federation of Central Massachusetts\nCalendar\nhttps://j
 ewishcentralmass.org/calendar/cal445\n\nCommunity wide Mimouna 2016 event.
  Click here for flyer.
DTSTART;TZID=America/New_York:20160430T203000
DTEND;TZID=America/New_York:20160430T223000
END:VEVENT
END:VCALENDAR
