BEGIN:VCALENDAR
PRODID:-//eluceo/ical//2.0/EN
VERSION:2.0
CALSCALE:GREGORIAN
BEGIN:VEVENT
UID:77f8d9ddfd3ae074feb805fed6f8d348
DTSTAMP:20260422T003356Z
SUMMARY:Congregation Beth Israel Community Seder
DESCRIPTION:Jewish Federation of Central Massachusetts\nCalendar\nhttps://j
 ewishcentralmass.org/calendar/cal442\n\nCongregation Beth Israel Community
  Seder
DTSTART;TZID=America/New_York:20160423T190000
DTEND;TZID=America/New_York:20160423T220000
END:VEVENT
END:VCALENDAR
