BEGIN:VCALENDAR
PRODID:-//eluceo/ical//2.0/EN
VERSION:2.0
CALSCALE:GREGORIAN
BEGIN:VEVENT
UID:5054aea3437e0c5acc6c65ecdef556a9
DTSTAMP:20260424T183343Z
SUMMARY:Passover
DESCRIPTION:Jewish Federation of Central Massachusetts\nCalendar\nhttps://j
 ewishcentralmass.org/calendar/cal441\n\nJFCM
DTSTART;TZID=America/New_York:20160423T000100
DTEND;TZID=America/New_York:20160430T235900
END:VEVENT
END:VCALENDAR
