BEGIN:VCALENDAR
PRODID:-//eluceo/ical//2.0/EN
VERSION:2.0
CALSCALE:GREGORIAN
BEGIN:VEVENT
UID:a602d662ea4e1a6e1eac3395066f53f0
DTSTAMP:20260421T054343Z
SUMMARY:Congregation Beth Israel Board Meeting
DESCRIPTION:Jewish Federation of Central Massachusetts\nCalendar\nhttps://j
 ewishcentralmass.org/calendar/cal439\n\nCongregation Beth Israel Board Mee
 ting
DTSTART;TZID=America/New_York:20160421T193000
DTEND;TZID=America/New_York:20160421T210000
END:VEVENT
END:VCALENDAR
