BEGIN:VCALENDAR
PRODID:-//eluceo/ical//2.0/EN
VERSION:2.0
CALSCALE:GREGORIAN
BEGIN:VEVENT
UID:f39f56e3a0e9daa949148c5ef615d519
DTSTAMP:20260423T004211Z
SUMMARY:Jewish War Veterans Breakfast
DESCRIPTION:Jewish Federation of Central Massachusetts\nCalendar\nhttps://j
 ewishcentralmass.org/calendar/cal438\n\nJewish War Veterans Breakfast
DTSTART;TZID=America/New_York:20160417T090000
DTEND;TZID=America/New_York:20160417T110000
END:VEVENT
END:VCALENDAR
