BEGIN:VCALENDAR
PRODID:-//eluceo/ical//2.0/EN
VERSION:2.0
CALSCALE:GREGORIAN
BEGIN:VEVENT
UID:5a1c7d95ac5057cb15d908706610ce7b
DTSTAMP:20260422T032631Z
SUMMARY:Jewish Community Center Board Meeting
DESCRIPTION:Jewish Federation of Central Massachusetts\nCalendar\nhttps://j
 ewishcentralmass.org/calendar/cal436\n\nJewish Community Center Board Meet
 ing
DTSTART;TZID=America/New_York:20160414T193000
DTEND;TZID=America/New_York:20160414T210000
END:VEVENT
END:VCALENDAR
