BEGIN:VCALENDAR
PRODID:-//eluceo/ical//2.0/EN
VERSION:2.0
CALSCALE:GREGORIAN
BEGIN:VEVENT
UID:bc7c5e16ab2b1bcdbeef91a50e5d60bf
DTSTAMP:20260422T033004Z
SUMMARY:Jewish Federation of Central Mass Board Meeting
DESCRIPTION:Jewish Federation of Central Massachusetts\nCalendar\nhttps://j
 ewishcentralmass.org/calendar/cal434\n\nJewish Federation of Central Mass 
 Board Meeting
DTSTART;TZID=America/New_York:20160412T193000
DTEND;TZID=America/New_York:20160412T210000
END:VEVENT
END:VCALENDAR
