BEGIN:VCALENDAR
PRODID:-//eluceo/ical//2.0/EN
VERSION:2.0
CALSCALE:GREGORIAN
BEGIN:VEVENT
UID:a127845ad9060e806be99382835f768f
DTSTAMP:20260424T141758Z
SUMMARY:Temple Emanuel Sinai Board Meeting
DESCRIPTION:Jewish Federation of Central Massachusetts\nCalendar\nhttps://j
 ewishcentralmass.org/calendar/cal433\n\nTemple Emanuel Sinai Board Meeting
DTSTART;TZID=America/New_York:20160411T193000
DTEND;TZID=America/New_York:20160411T210000
END:VEVENT
END:VCALENDAR
