BEGIN:VCALENDAR
PRODID:-//eluceo/ical//2.0/EN
VERSION:2.0
CALSCALE:GREGORIAN
BEGIN:VEVENT
UID:4be44579c5005782ff635a3cfc7655d0
DTSTAMP:20260422T072322Z
SUMMARY:Congregation Beth Israel Claytime Seder Plate Event
DESCRIPTION:Jewish Federation of Central Massachusetts\nCalendar\nhttps://j
 ewishcentralmass.org/calendar/cal432\n\nCongregation Beth Israel Claytime 
 Seder Plate Event
DTSTART;TZID=America/New_York:20160410T140000
DTEND;TZID=America/New_York:20160410T160000
END:VEVENT
END:VCALENDAR
