BEGIN:VCALENDAR
PRODID:-//eluceo/ical//2.0/EN
VERSION:2.0
CALSCALE:GREGORIAN
BEGIN:VEVENT
UID:9b4ce2598dcd72a382c30fb87b0f972d
DTSTAMP:20260424T041957Z
SUMMARY:Congregation Beth Israel Shabbat Plus Wine Tasting
DESCRIPTION:Jewish Federation of Central Massachusetts\nCalendar\nhttps://j
 ewishcentralmass.org/calendar/cal430\n\nCongregation Beth Israel Shabbat P
 lus Wine Tasting
DTSTART;TZID=America/New_York:20160409T190000
DTEND;TZID=America/New_York:20160409T220000
END:VEVENT
END:VCALENDAR
