BEGIN:VCALENDAR
PRODID:-//eluceo/ical//2.0/EN
VERSION:2.0
CALSCALE:GREGORIAN
BEGIN:VEVENT
UID:eaa751ca3a9b2e9f496216a06164d467
DTSTAMP:20260422T193639Z
SUMMARY:Temple Emanuel Sinai Board Meeting
DESCRIPTION:Jewish Federation of Central Massachusetts\nCalendar\nhttps://j
 ewishcentralmass.org/calendar/cal43\n\nTemple Emanuel Sinai Board Meeting
DTSTART;TZID=America/New_York:20141110T193000
DTEND;TZID=America/New_York:20141110T210000
END:VEVENT
END:VCALENDAR
