BEGIN:VCALENDAR
PRODID:-//eluceo/ical//2.0/EN
VERSION:2.0
CALSCALE:GREGORIAN
BEGIN:VEVENT
UID:fb97633e83cd802bb66b4a8446a92e70
DTSTAMP:20260422T205135Z
SUMMARY:Temple Emanuel Sinai Concert
DESCRIPTION:Jewish Federation of Central Massachusetts\nCalendar\nhttps://j
 ewishcentralmass.org/calendar/cal428\n\nTemple Emanuel Sinai Concert
DTSTART;TZID=America/New_York:20160402T190000
DTEND;TZID=America/New_York:20160402T213000
END:VEVENT
END:VCALENDAR
